BEGIN:VCALENDAR
PRODID:-//Microsoft Corporation//Outlook MIMEDIR//EN
VERSION:2.0
METHOD:PUBLISH
BEGIN:VEVENT
DTSTART:20260423T100000
DTEND:20260423T110000
DESCRIPTION:
LOCATION:Ways & Means Committee Hearing on Dockets #0733-0740, 0748, FY27 Budget: Labor Compliance & Worker Protections, Law, Revolving Fund
SUMMARY:City Council
CATEGORIES:MEETING
END:VEVENT
END:VCALENDAR
