BEGIN:VCALENDAR
PRODID:-//Microsoft Corporation//Outlook MIMEDIR//EN
VERSION:2.0
METHOD:PUBLISH
BEGIN:VEVENT
DTSTART:20260421T140000
DTEND:20260421T150000
DESCRIPTION:
LOCATION:Community Preservation Act Committee Hearing on Dockets #0569 and #0758
SUMMARY:City Council
CATEGORIES:MEETING
END:VEVENT
END:VCALENDAR
