BEGIN:VCALENDAR
PRODID:-//Microsoft Corporation//Outlook MIMEDIR//EN
VERSION:2.0
METHOD:PUBLISH
BEGIN:VEVENT
DTSTART:20260422T140000
DTEND:20260422T150000
DESCRIPTION:
LOCATION:Planning, Development, & Transportation Committee Hearing on Dockets #0204, #0588 & #0589
SUMMARY:City Council
CATEGORIES:MEETING
END:VEVENT
END:VCALENDAR
