BEGIN:VCALENDAR
PRODID:-//Microsoft Corporation//Outlook MIMEDIR//EN
VERSION:2.0
METHOD:PUBLISH
BEGIN:VEVENT
DTSTART:20260421T093000
DTEND:20260421T103000
DESCRIPTION:
LOCATION:Planning, Development, & Transportation Committee Hearing on Docket #0771
SUMMARY:City Council
CATEGORIES:MEETING
END:VEVENT
END:VCALENDAR
