BEGIN:VCALENDAR
PRODID:-//Microsoft Corporation//Outlook MIMEDIR//EN
VERSION:2.0
METHOD:PUBLISH
BEGIN:VEVENT
DTSTART:20260421T110000
DTEND:20260421T120000
DESCRIPTION:
LOCATION:Environmental Justice, Resiliency, & Parks Committee Hearing on Dockets #0260, #0760, & #0761
SUMMARY:City Council
CATEGORIES:MEETING
END:VEVENT
END:VCALENDAR
